Workbook
Name _hed3: #N/A
Name _hed3: #N/A
Name _hed3: #N/A
Name _hed4: #N/A
Name _hed4: #N/A
Name _hed4: #N/A
Name _mc1: #N/A
Name _mc1: #N/A
Name _mc1: #N/A
Name _mc2: #N/A
Name _mc2: #N/A
Name _mc2: #N/A
Name _mc3: #N/A
Name _mc3: #N/A
Name _mc3: #N/A
Name _YR0110: [12]Imp:Trade!$O$9:$R$464
Name _YR89: [12]Imp:Trade!$C$9:$C$464
Name _YR90: [12]Imp:Trade!$D$9:$D$464
Name _YR91: [12]Imp:Trade!$E$9:$E$464
Name _YR92: [12]Imp:Trade!$F$9:$F$464
Name _YR93: [12]Imp:Trade!$G$9:$G$464
Name _YR94: [12]Imp:Trade!$H$9:$H$464
Name _YR95: [13]Assump:Last!$L$13:$M$225
Name A: #REF!
Name AA: #REF!
Name aaa: #REF!
Name AAAA: #REF!
Name ab: #REF!
Name ADM: #REF!
Name ajgdebt: #REF!,#REF!
Name b: #REF!
Name bbb: #REF!
Name BCEAO: #REF!,#REF!,#REF!,#REF!,#REF!,#REF!
Name BCEAO: #REF!,#REF!,#REF!,#REF!,#REF!,#REF!
Name BCEAO: #REF!,#REF!,#REF!,#REF!,#REF!,#REF!
Name DMX_Units: #REF!
Name DMX_Units: #REF!
Name DMX_Units: #REF!
Name DMXHUB: #REF!
Name endbut: "Button 3"
Name Excel_BuiltIn_Print_Area: #REF!
Name Excel_BuiltIn_Print_Area_1_1: #REF!
Name exp: #REF!,#REF!,#REF!
Name exp: #REF!,#REF!,#REF!
Name exp: #REF!,#REF!,#REF!
Name External_debt_indicators: #REF!:#REF!
Name GENT: #REF!
Name gestion_2016: #REF!
Name hedi: #N/A
Name hedi: #N/A
Name hedi: #N/A
Name hedi1: #N/A
Name hedi1: #N/A
Name hedi1: #N/A
Name hedi5: #N/A
Name hedi5: #N/A
Name hedi5: #N/A
Name immob: #REF!
Name intarrear: #REF!
Name Macro4: #N/A

Sheet TOFE détaillé 2021
A2: TABLEAU DES OPERATIONS FINANCIERES DE L'ETAT (TOFE)
BF3: =BF127-BF145 -> 73.073845
A4: En milliards de FCFA | B4: Budget | E4: Collectif | H4: Mission FMI | I4: Project° liquide | J4: Réal. | M4: Project° liquide | N4: Réal. | Q4: Réal. Cum | T4: Project° liquide | U4: Réal. | X4: Objectif du prog | Y4: Project° liquide | Z4: Réal. Cum | AC4: Taux | AD4: Taux | AE4: Taux | AF4: Project° liquide | AG4: Réal. | AJ4: Réal. Cum | AM4: Taux | AN4: Project° liquide | AO4: Réal. | AR4: Réal. Cum | AU4: Project° liquide | AV4: Réal. | AY4: Objectif du prog | AZ4: Project° liquide | BA4: Réal. | BD4: Objectif du prog | BE4: Project° liquide | BF4: Réal. Cum | BI4: Taux | BJ4: Taux | BK4: Taux d'exécut° | BL4: Project° liquide | BM4: Réal. | BP4: Réal. Cum | BS4: Taux | BT4: Project° liquide | BU4: Réal. | BX4: Réal. Cum | CA4: Taux | CB4: Project° liquide | CC4: Réal. | CF4: Objectif du prog | CG4: Project° liquide | CH4: Réal. | CK4: Objectif du prog | CL4: Project° liquide | CM4: Réal. Cum | CP4: Taux | CQ4: Taux | CR4: Taux d'exécut° | CS4: Project° liquide | CT4: Réal. | CW4: Réal. Cum | CZ4: Project° liquide | DA4: Réal. | DD4: Réal. Cum | DG4: Project° liquide | DH4: Réal. | DK4: Objectif du prog | DL4: Project° liquide | DM4: Réal. | DP4: Objectif du prog | DQ4: Project° liquide | DR4: Réal. Cum | DU4: Taux | DV4: Taux | DW4: Taux
B5: 2021 | E5: =B5 -> 2021 | H5: Liquide | I5: 44197 | J5: =I5 -> 44197 | M5: =I5+31 -> 44228 | N5: =M5 -> 44228 | Q5: =N5 -> 44228 | T5: =M5+31 -> 44259 | U5: =T5 -> 44259 | X5: 1er trim | Y5: 1er trim | Z5: =U5 -> 44259 | AC5: d'exécut° | AD5: d'exécut° | AE5: d'exécut° FMI | AF5: =Z5+30 -> 44289 | AG5: =AF5 -> 44289 | AJ5: =AG5 -> 44289 | AM5: d'exécut° | AN5: =AJ5+30 -> 44319 | AO5: =AN5 -> 44319 | AR5: =AO5 -> 44319 | AU5: =AR5+31 -> 44350 | AV5: =AU5 -> 44350 | AY5: 2ème Trim. | AZ5: 2ème Trim. | BA5: 2ème Trim | BD5: 1er Sem. | BE5: 1er Sem. | BF5: =AV5 -> 44350 | BI5: d'exécut° | BJ5: d'exécut° | BK5: FMI | BL5: =BF5+30 -> 44380 | BM5: =BL5 -> 44380 | BP5: =BM5 -> 44380 | BS5: d'exécut° | BT5: =BP5+31 -> 44411 | BU5: =BT5 -> 44411 | BX5: =BU5 -> 44411 | CA5: d'exécut° | CB5: =BX5+31 -> 44442 | CC5: =CB5 -> 44442 | CF5: 3ème Trim | CG5: 3ème Trim | CH5: 3ème trim. | CK5: Cum fin sept | CL5: fin sept | CM5: =CC5 -> 44442 | CP5: d'exécut° | CQ5: d'exécut° | CR5: FMI | CS5: =CM5+30 -> 44472 | CT5: =CS5 -> 44472 | CW5: =CT5 -> 44472 | CZ5: =CW5+31 -> 44503 | DA5: =CZ5 -> 44503 | DD5: =DA5 -> 44503 | DG5: =DD5+30 -> 44533 | DH5: =DG5 -> 44533 | DK5: 4ème Trim | DL5: 4ème Trim | DM5: 4ème Trim | DP5: cumul. à fin déc. | DQ5: à fin déc. | DR5: =DH5 -> 44533 | DU5: d'exécut° | DV5: d'exécut° | DW5: d'exécut°
B6: Brut | C6: Elts non liquide | D6: Liquide | E6: Brut | F6: Elts non liquide | G6: Liquide | H6: 43816 | I6: Mensuel | J6: Brut | K6: Elts non liquide | L6: Liquide | M6: Mensuel | N6: Brut | O6: Elts non liquide | P6: Liquide | Q6: Brut | R6: Elts non liquide | S6: Liquide | T6: Mensuel | U6: Brut | V6: Elts non liquide | W6: Liquide | X6: =Y6 -> 2021 | Y6: =B5 -> 2021 | Z6: Brut | AA6: Elts non liquide | AB6: Liquide | AC6: du BG | AD6: 1er trimestre | AE6: 1er trim | AF6: Mensuel | AG6: Brut | AH6: Elts non liquide | AI6: Liquide | AJ6: Brut | AK6: Elts non liquide | AL6: Liquide | AM6: du BG | AN6: Mensuel | AO6: Brut | AP6: Elts non liquide | AQ6: Liquide | AR6: Brut | AS6: Elts non liquide | AT6: Liquide | AU6: Mensuel | AV6: Brut | AW6: Elts non liquide | AX6: Liquide | AY6: =B5 -> 2021 | AZ6: =AY6 -> 2021 | BA6: Brut | BB6: Elts non liquide | BC6: Liquide | BD6: =AY6 -> 2021 | BE6: =BD6 -> 2021 | BF6: Brut | BG6: Elts non liquide | BH6: Liquide | BI6: du BG | BJ6: du collectif | BK6: 1er sem | BL6: Mensuel | BM6: Brut | BN6: Elts non liquide | BO6: Liquide | BP6: Brut | BQ6: Elts non liquide | BR6: Liquide | BS6: du BG | BT6: Mensuel | BU6: Brut | BV6: Elts non liquide | BW6: Liquide | BX6: Brut | BY6: Elts non liquide | BZ6: Liquide | CA6: du BG | CB6: Mensuel | CC6: Brut | CD6: Elts non liquide | CE6: Liquide | CF6: =B5 -> 2021 | CG6: =CF6 -> 2021 | CH6: Brut | CI6: Elts non liquide | CJ6: Liquide | CK6: =CF6 -> 2021 | CL6: =CK6 -> 2021 | CM6: Brut | CN6: Elts non liquide | CO6: Liquide | CP6: du BG | CQ6: du Collect | CR6: 3ème trimestre | CS6: Mensuel | CT6: Brut | CU6: Elts non liquide | CV6: Liquide | CW6: Brut | CX6: Elts non liquide | CY6: Liquide | CZ6: Mensuel | DA6: Brut | DB6: Elts non liquide | DC6: Liquide | DD6: Brut | DE6: Elts non liquide | DF6: Liquide | DG6: Mensuel | DH6: Brut | DI6: Elts non liquide | DJ6: Liquide | DK6: =CK6 -> 2021 | DL6: =DK6 -> 2021 | DM6: Brut | DN6: Elts non liquide | DO6: Liquide | DP6: =DK6 -> 2021 | DQ6: =DP6 -> 2021 | DR6: Brut | DS6: Elts non liquide | DT6: Liquide | DU6: du BG | DV6: du Collectif | DW6: Prog FMI
A7: TABLEAU 1: RECETTES DE L'ETAT
A8: RECETTES FISCALES (OTR) | B8: =+B9+B31 -> 644.636 | C8: =+C9+C31 -> 67.300421 | D8: =+D9+D31 -> 577.33558 | E8: =+E9+E31 -> 644.636 | F8: =+F9+F31 -> 67.300421 | G8: =+G9+G31 -> 577.33558 | H8: =+H9+H31 -> 602.59441 | I8: =+I9+I31 -> 54.116355 | ... AB8: =+AB9+AB31 -> 145.97035 | AC8: =AB8/D8 -> 0.2528345 | AD8: =Z8/Y8 -> 1.4350951 | AE8: =AB8/H8 -> 0.24223649 | AF8: =+AF9+AF31 -> 48.034048 | AG8: =+AG9+AG31 -> 61.714024 | AH8: =+AH9+AH31 -> 8.9491708 | AI8: =+AI9+AI31 -> 52.764854 | AJ8: =+AJ9+AJ31 -> 232.29293 | AK8: =+AK9+AK31 -> 33.55772 | AL8: =+AL9+AL31 -> 198.73521 | AM8: =AL8/D8 -> 0.34422823 | AN8: =+AN9+AN31 -> 40.675814 | AO8: =+AO9+AO31 -> 66.142079 | AP8: =+AP9+AP31 -> 8.6483877 | AQ8: =+AQ9+AQ31 -> 57.493691 | AR8: =+AR9+AR31 -> 298.43501 | AS8: =+AS9+AS31 -> 42.206107 | AT8: =+AT9+AT31 -> 256.2289 | AU8: =+AU9+AU31 -> 25.014236 | ... BH8: =+BH9+BH31 -> 310.08595 | BI8: =BH8/D8 -> 0.53709829 | BJ8: =BF8/E8 -> 0.5667553 | BK8: =BH8/BD8 -> #DIV/0! | BL8: =+BL9+BL31 -> 0 | BM8: =+BM9+BM31 -> 0 | BN8: =+BN9+BN31 -> 0 | BO8: =+BO9+BO31 -> 0 | BP8: =+BP9+BP31 -> 365.35087 | BQ8: =+BQ9+BQ31 -> 55.264916 | BR8: =+BR9+BR31 -> 310.08595 | BS8: =BP8/B8 -> 0.5667553 | BT8: =+BT9+BT31 -> 0 | BU8: =+BU9+BU31 -> 0 | BV8: =+BV9+BV31 -> 0 | BW8: =+BW9+BW31 -> 0 | BX8: =+BX9+BX31 -> 365.35087 | BY8: =+BY9+BY31 -> 55.264916 | BZ8: =+BZ9+BZ31 -> 310.08595 | CA8: =BX8/B8 -> 0.5667553 | CB8: =+CB9+CB31 -> 0 | CC8: =+CC9+CC31 -> 0 | CD8: =+CD9+CD31 -> 0 | CE8: =+CE9+CE31 -> 0 | CF8: =+CF9+CF31 -> 0 | CG8: =+CG9+CG31 -> 0 | CH8: =+CH9+CH31 -> 0 | CI8: =+CI9+CI31 -> 0 | ... CO8: =+CO9+CO31 -> 310.08595 | CP8: =CM8/B8 -> 0.5667553 | CQ8: =CM8/E8 -> 0.5667553 | CR8: =CO8/CK8 -> #DIV/0! | CS8: =+CS9+CS31 -> 0 | CT8: =+CT9+CT31 -> 0 | CU8: =+CU9+CU31 -> 0 | CV8: =+CV9+CV31 -> 0 | CW8: =+CW9+CW31 -> 365.35087 | CX8: =+CX9+CX31 -> 55.264916 | CY8: =+CY9+CY31 -> 310.08595 | CZ8: =+CZ9+CZ31 -> 0 | ... DT8: =+DT9+DT31 -> 310.08595 | DU8: =DR8/B8 -> 0.5667553 | DV8: =DR8/E8 -> 0.5667553 | DW8: =DT8/H8 -> 0.51458484
A9: COMMISSARIAT DES IMPÔTS (CI) | B9: =+B10+B19+B26 -> 331.6226 | C9: =+C10+C19+C26 -> 15.731478 | D9: =+D10+D19+D26 -> 315.89112 | E9: =+E10+E19+E26 -> 331.6226 | F9: =+F10+F19+F26 -> 15.731478 | G9: =+G10+G19+G26 -> 315.89112 | H9: =+H10+H19+H26 -> 344.90221 | I9: =+I10+I19+I26 -> 30.533406 | ... AB9: =+AB10+AB19+AB26 -> 78.39263 | AC9: =AB9/D9 -> 0.24816345 | AD9: =Z9/Y9 -> 1.1118315 | AE9: =AB9/H9 -> 0.22728944 | AF9: =+AF10+AF19+AF26 -> 26.830197 | AG9: =+AG10+AG19+AG26 -> 33.242126 | AH9: =+AH10+AH19+AH26 -> 1.7080216 | AI9: =+AI10+AI19+AI26 -> 31.534105 | AJ9: =+AJ10+AJ19+AJ26 -> 114.1472 | AK9: =+AK10+AK19+AK26 -> 4.2204605 | AL9: =+AL10+AL19+AL26 -> 109.92674 | AM9: =AL9/D9 -> 0.34798931 | AN9: =+AN10+AN19+AN26 -> 15.606034 | AO9: =+AO10+AO19+AO26 -> 36.204314 | AP9: =+AP10+AP19+AP26 -> 0.6926031 | AQ9: =+AQ10+AQ19+AQ26 -> 35.511711 | AR9: =+AR10+AR19+AR26 -> 150.35151 | AS9: =+AS10+AS19+AS26 -> 4.9130636 | AT9: =+AT10+AT19+AT26 -> 145.43845 | AU9: =+AU10+AU19+AU26 -> 25.014236 | ... BH9: =+BH10+BH19+BH26 -> 175.49421 | BI9: =BH9/D9 -> 0.55555285 | BJ9: =BF9/E9 -> 0.54881794 | BK9: =BH9/BD9 -> #DIV/0! | BL9: =+BL10+BL19+BL26 -> 0 | BM9: =+BM10+BM19+BM26 -> 0 | BN9: =+BN10+BN19+BN26 -> 0 | BO9: =+BO10+BO19+BO26 -> 0 | BP9: =+BP10+BP19+BP26 -> 182.00043 | BQ9: =+BQ10+BQ19+BQ26 -> 6.5062212 | BR9: =+BR10+BR19+BR26 -> 175.49421 | BS9: =BP9/B9 -> 0.54881794 | BT9: =+BT10+BT19+BT26 -> 0 | BU9: =+BU10+BU19+BU26 -> 0 | BV9: =+BV10+BV19+BV26 -> 0 | BW9: =+BW10+BW19+BW26 -> 0 | BX9: =+BX10+BX19+BX26 -> 182.00043 | BY9: =+BY10+BY19+BY26 -> 6.5062212 | BZ9: =+BZ10+BZ19+BZ26 -> 175.49421 | CA9: =BX9/B9 -> 0.54881794 | CB9: =+CB10+CB19+CB26 -> 0 | CC9: =+CC10+CC19+CC26 -> 0 | CD9: =+CD10+CD19+CD26 -> 0 | CE9: =+CE10+CE19+CE26 -> 0 | CF9: =+CF10+CF19+CF26 -> 0 | CG9: =+CG10+CG19+CG26 -> 0 | CH9: =+CH10+CH19+CH26 -> 0 | CI9: =+CI10+CI19+CI26 -> 0 | ... CO9: =+CO10+CO19+CO26 -> 175.49421 | CP9: =CM9/B9 -> 0.54881794 | CQ9: =CM9/E9 -> 0.54881794 | CR9: =CO9/CK9 -> #DIV/0! | CS9: =+CS10+CS19+CS26 -> 0 | CT9: =+CT10+CT19+CT26 -> 0 | CU9: =+CU10+CU19+CU26 -> 0 | CV9: =+CV10+CV19+CV26 -> 0 | CW9: =+CW10+CW19+CW26 -> 182.00043 | CX9: =+CX10+CX19+CX26 -> 6.5062212 | CY9: =+CY10+CY19+CY26 -> 175.49421 | CZ9: =+CZ10+CZ19+CZ26 -> 0 | ... DT9: =+DT10+DT19+DT26 -> 175.49421 | DU9: =DR9/B9 -> 0.54881794 | DV9: =DR9/E9 -> 0.54881794 | DW9: =DT9/H9 -> 0.50882311
A10: CONTRIBUTIONS DIRECTES | B10: =SUM(B11:B18) -> 137.26286 | C10: =SUM(C11:C18) -> 5.243826 | D10: =SUM(D11:D18) -> 132.01904 | E10: =SUM(E11:E18) -> 137.26286 | F10: =SUM(F11:F18) -> 5.243826 | G10: =SUM(G11:G18) -> 132.01904 | H10: =SUM(H11:H18) -> 328.83259 | I10: =SUM(I11:I18) -> 14.463788 | ... AB10: =SUM(AB11:AB18) -> 31.637761 | AC10: =AB10/D10 -> 0.23964544 | AD10: =Z10/Y10 -> 1.1593809 | AE10: =AB10/H10 -> 0.096212364 | AF10: =SUM(AF11:AF18) -> 10.220023 | AG10: =SUM(AG11:AG18) -> 13.899977 | AH10: =SUM(AH11:AH18) -> 0.2006749 | AI10: =SUM(AI11:AI18) -> 13.699302 | AJ10: =SUM(AJ11:AJ18) -> 46.173116 | AK10: =SUM(AK11:AK18) -> 0.83605325 | AL10: =SUM(AL11:AL18) -> 45.337063 | AM10: =AL10/D10 -> 0.34341307 | AN10: =SUM(AN11:AN18) -> 0.873241 | AO10: =SUM(AO11:AO18) -> 19.846155 | AP10: =SUM(AP11:AP18) -> 0.24864942 | AQ10: =SUM(AQ11:AQ18) -> 19.597506 | AR10: =SUM(AR11:AR18) -> 66.019271 | AS10: =SUM(AS11:AS18) -> 1.0847027 | AT10: =SUM(AT11:AT18) -> 64.934569 | AU10: =SUM(AU11:AU18) -> 10.743047 | ... BH10: =SUM(BH11:BH18) -> 77.506555 | BI10: =BH10/D10 -> 0.58708621 | BJ10: =BF10/E10 -> 0.57490181 | BK10: =BH10/BD10 -> #DIV/0! | BL10: =SUM(BL11:BL18) -> 0 | BM10: =SUM(BM11:BM18) -> 0 | BN10: =SUM(BN11:BN18) -> 0 | BO10: =SUM(BO11:BO18) -> 0 | BP10: =SUM(BP11:BP18) -> 78.912668 | BQ10: =SUM(BQ11:BQ18) -> 1.4061129 | BR10: =SUM(BR11:BR18) -> 77.506555 | BS10: =BP10/B10 -> 0.57490181 | BT10: =SUM(BT11:BT18) -> 0 | BU10: =SUM(BU11:BU18) -> 0 | BV10: =SUM(BV11:BV18) -> 0 | BW10: =SUM(BW11:BW18) -> 0 | BX10: =SUM(BX11:BX18) -> 78.912668 | BY10: =SUM(BY11:BY18) -> 1.4061129 | BZ10: =SUM(BZ11:BZ18) -> 77.506555 | CA10: =BX10/B10 -> 0.57490181 | CB10: =SUM(CB11:CB18) -> 0 | CC10: =SUM(CC11:CC18) -> 0 | CD10: =SUM(CD11:CD18) -> 0 | CE10: =SUM(CE11:CE18) -> 0 | CF10: =SUM(CF11:CF18) -> 0 | CG10: =SUM(CG11:CG18) -> 0 | CH10: =SUM(CH11:CH18) -> 0 | CI10: =SUM(CI11:CI18) -> 0 | ... CO10: =SUM(CO11:CO18) -> 77.506555 | CP10: =CM10/B10 -> 0.57490181 | CQ10: =CM10/E10 -> 0.57490181 | CR10: =CO10/CK10 -> #DIV/0! | CS10: =SUM(CS11:CS18) -> 0 | CT10: =SUM(CT11:CT18) -> 0 | CU10: =SUM(CU11:CU18) -> 0 | CV10: =SUM(CV11:CV18) -> 0 | CW10: =SUM(CW11:CW18) -> 78.912668 | CX10: =SUM(CX11:CX18) -> 1.4061129 | CY10: =SUM(CY11:CY18) -> 77.506555 | CZ10: =SUM(CZ11:CZ18) -> 0 | ... DT10: =SUM(DT11:DT18) -> 77.506555 | DU10: =DR10/B10 -> 0.57490181 | DV10: =DR10/E10 -> 0.57490181 | DW10: =DT10/H10 -> 0.23570217
A11: Impôts sur les revenus, les bénéfices et gains en capitaux | B11: ='[1]Recettes intérieures'!B9 -> 46.135584 | D11: =B11-C11 -> 46.135584 | E11: ='[1]Recettes intérieures'!C9 -> 46.135584 | G11: =E11-F11 -> 46.135584 | H11: ='[1]Recettes intérieures'!D9 -> 4.0371682 | I11: ='[1]Recettes intérieures'!D9 -> 4.0371682 | J11: ='[1]Recettes intérieures'!G9 -> 5.7323189 | K11: ='[1]Recettes intérieures'!F9 -> 0 | L11: =J11-K11 -> 5.7323189 | M11: ='[1]Recettes intérieures'!H9 -> 3.6503036 | N11: ='[1]Recettes intérieures'!K9 -> 3.5715505 | O11: ='[1]Recettes intérieures'!J9 -> 0 | P11: =N11-O11 -> 3.5715505 | Q11: =J11+N11 -> 9.3038693 | R11: =K11+O11 -> 0 | S11: =Q11-R11 -> 9.3038693 | T11: ='[1]Recettes intérieures'!L9 -> 3.296359 | U11: ='[1]Recettes intérieures'!O9 -> 3.6734045 | V11: ='[1]Recettes intérieures'!N9 -> 0 | W11: =U11-V11 -> 3.6734045 | Y11: =I11+M11+T11 -> 10.983831 | Z11: =Q11+U11 -> 12.977274 | AA11: =R11+V11 -> 0 | AB11: =Z11-AA11 -> 12.977274 | AC11: =AB11/D11 -> 0.28128557 | AD11: =Z11/Y11 -> 1.1814889 | AE11: =AB11/H11 -> 3.2144496 | AF11: ='[1]Recettes intérieures'!P9 -> 3.430056 | AG11: ='[1]Recettes intérieures'!S9 -> 4.2929802 | AH11: ='[1]Recettes intérieures'!R9 -> 0 | AI11: =AG11-AH11 -> 4.2929802 | AJ11: =+Z11+AG11 -> 17.270254 | AK11: =+AA11+AH11 -> 0 | AL11: =AJ11-AK11 -> 17.270254 | AM11: =AL11/D11 -> 0.37433695 | AN11: ='[1]Recettes intérieures'!T9 -> 0.787552 | AO11: ='[1]Recettes intérieures'!W9 -> 4.3196386 | AP11: ='[1]Recettes intérieures'!V9 -> 0 | AQ11: =AO11-AP11 -> 4.3196386 | AR11: =AJ11+AO11 -> 21.589893 | AS11: =AK11+AP11 -> 0 | AT11: =AR11-AS11 -> 21.589893 | AU11: ='[1]Recettes intérieures'!X9 -> 5.178535 | AV11: ='[1]Recettes intérieures'!AA9 -> 6.8735766 | AW11: ='[1]Recettes intérieures'!Z9 -> 0 | AX11: =AV11-AW11 -> 6.8735766 | AZ11: =AF11+AN11+AU11 -> 9.396143 | BA11: =AV11+AO11+AG11 -> 15.486195 | BB11: =AW11+AP11+AH11 -> 0 | BC11: =BA11-BB11 -> 15.486195 | BD11: =AY11+X11 -> 0 | BE11: =AZ11+Y11 -> 20.379974 | BF11: =BA11+Z11 -> 28.463469 | BG11: =BB11+AA11 -> 0 | BH11: =BC11+AB11 -> 28.463469 | BI11: =BH11/D11 -> 0.61695261 | BJ11: =BF11/E11 -> 0.61695261 | BK11: =BH11/BD11 -> #DIV/0! | BL11: ='[1]Recettes intérieures'!AB9 -> 0 | BM11: ='[1]Recettes intérieures'!AE9 -> 0 | BN11: ='[1]Recettes intérieures'!AD9 -> 0 | BO11: =BM11-BN11 -> 0 | BP11: =BF11+BM11 -> 28.463469 | BQ11: =BG11+BN11 -> 0 | BR11: =BP11-BQ11 -> 28.463469 | BS11: =BP11/B11 -> 0.61695261 | BT11: ='[1]Recettes intérieures'!AF9 -> 0 | BU11: ='[1]Recettes intérieures'!AI9 -> 0 | BV11: ='[1]Recettes intérieures'!AH9 -> 0 | BW11: =BU11-BV11 -> 0 | BX11: =BP11+BU11 -> 28.463469 | BY11: =BQ11+BV11 -> 0 | BZ11: =BX11-BY11 -> 28.463469 | CA11: =BX11/B11 -> 0.61695261 | CB11: ='[1]Recettes intérieures'!AJ9 -> 0 | CC11: ='[1]Recettes intérieures'!AM9 -> 0 | CD11: ='[1]Recettes intérieures'!AL9 -> 0 | CE11: =CC11-CD11 -> 0 | CG11: =CB11+BT11+BL11 -> 0 | CH11: =BM11+BU11+CC11 -> 0 | CI11: =BN11+BV11+CD11 -> 0 | CJ11: =CH11-CI11 -> 0 | CL11: =CG11+BE11 -> 20.379974 | CM11: =BX11+CC11 -> 28.463469 | CN11: =BY11+CD11 -> 0 | CO11: =CM11-CN11 -> 28.463469 | CP11: =CM11/B11 -> 0.61695261 | CQ11: =CM11/E11 -> 0.61695261 | CR11: =CO11/CK11 -> #DIV/0! | CS11: ='[1]Recettes intérieures'!AN9 -> 0 | CT11: ='[1]Recettes intérieures'!AQ9 -> 0 | CU11: ='[1]Recettes intérieures'!AP9 -> 0 | CV11: =CT11-CU11 -> 0 | CW11: =CM11+CT11 -> 28.463469 | CX11: =CN11+CU11 -> 0 | CY11: =CW11-CX11 -> 28.463469 | CZ11: ='[1]Recettes intérieures'!AR9 -> 0 | DA11: ='[1]Recettes intérieures'!AU9 -> 0 | DB11: ='[1]Recettes intérieures'!AT9 -> 0 | DC11: =DA11-DB11 -> 0 | DD11: =CW11+DA11 -> 28.463469 | DE11: =CX11+DB11 -> 0 | DF11: =DD11-DE11 -> 28.463469 | DG11: ='[1]Recettes intérieures'!AV9 -> 0 | DH11: ='[1]Recettes intérieures'!AY9 -> 0 | DI11: ='[1]Recettes intérieures'!AX9 -> 0 | DJ11: =DH11-DI11 -> 0 | DL11: =DG11+CZ11+CS11 -> 0 | DM11: =DH11+DA11+CT11 -> 0 | DN11: =DI11+DB11+CU11 -> 0 | DO11: =DM11-DN11 -> 0 | DP11: =DK11+CK11 -> 0 | DQ11: =DL11+CL11 -> 20.379974 | DR11: =DD11+DH11 -> 28.463469 | DS11: =DE11+DI11 -> 0 | DT11: =DR11-DS11 -> 28.463469 | DU11: =DR11/B11 -> 0.61695261 | DV11: =DR11/E11 -> 0.61695261 | DW11: =DT11/H11 -> 7.050355
A12: Impôts sur les Sociétés | B12: ='[1]Recettes intérieures'!B10 -> 85.747525 | C12: =1/3*'[1]CI (Ex-DGI)'!B56 -> 5.243826 | D12: =B12-C12 -> 80.503699 | E12: ='[1]Recettes intérieures'!C10 -> 85.747525 | F12: =1/3*'[1]CI (Ex-DGI)'!C56 -> 5.243826 | G12: =E12-F12 -> 80.503699 | H12: ='[1]Recettes intérieures'!D10 -> 9.9419077 | I12: ='[1]Recettes intérieures'!D10 -> 9.9419077 | J12: ='[1]Recettes intérieures'!G10 -> 10.710982 | K12: ='[1]Recettes intérieures'!F10 -> 0.22365996 | L12: =J12-K12 -> 10.487322 | M12: ='[1]Recettes intérieures'!H10 -> 4.4812644 | N12: ='[1]Recettes intérieures'!K10 -> 4.9589395 | O12: ='[1]Recettes intérieures'!J10 -> 0.22026291 | P12: =N12-O12 -> 4.7386766 | Q12: =J12+N12 -> 15.669921 | R12: =K12+O12 -> 0.44392286 | S12: =Q12-R12 -> 15.225999 | T12: ='[1]Recettes intérieures'!L10 -> 1.342044 | U12: ='[1]Recettes intérieures'!O10 -> 1.4433782 | V12: ='[1]Recettes intérieures'!N10 -> 0.19145548 | W12: =U12-V12 -> 1.2519227 | Y12: =I12+M12+T12 -> 15.765216 | Z12: =Q12+U12 -> 17.1133 | AA12: =R12+V12 -> 0.63537835 | AB12: =Z12-AA12 -> 16.477921 | AC12: =AB12/D12 -> 0.20468527 | AD12: =Z12/Y12 -> 1.08551 | AE12: =AB12/H12 -> 1.6574205 | AF12: ='[1]Recettes intérieures'!P10 -> 6.432903 | AG12: ='[1]Recettes intérieures'!S10 -> 9.1937121 | AH12: ='[1]Recettes intérieures'!R10 -> 0.2006749 | AI12: =AG12-AH12 -> 8.9930372 | AJ12: =+Z12+AG12 -> 26.307012 | AK12: =+AA12+AH12 -> 0.83605325 | AL12: =AJ12-AK12 -> 25.470958 | AM12: =AL12/D12 -> 0.31639488 | AN12: ='[1]Recettes intérieures'!T10 -> 0 | AO12: ='[1]Recettes intérieures'!W10 -> 14.190475 | AP12: ='[1]Recettes intérieures'!V10 -> 0.24864942 | AQ12: =AO12-AP12 -> 13.941826 | AR12: =AJ12+AO12 -> 40.497487 | AS12: =AK12+AP12 -> 1.0847027 | AT12: =AR12-AS12 -> 39.412784 | AU12: ='[1]Recettes intérieures'!X10 -> 5.135513 | AV12: ='[1]Recettes intérieures'!AA10 -> 5.3988398 | AW12: ='[1]Recettes intérieures'!Z10 -> 0.32141028 | AX12: =AV12-AW12 -> 5.0774295 | AZ12: =AF12+AN12+AU12 -> 11.568416 | BA12: =AV12+AO12+AG12 -> 28.783027 | BB12: =AW12+AP12+AH12 -> 0.7707346 | BC12: =BA12-BB12 -> 28.012292 | BD12: =AY12+X12 -> 0 | BE12: =AZ12+Y12 -> 27.333632 | BF12: =BA12+Z12 -> 45.896326 | BG12: =BB12+AA12 -> 1.4061129 | BH12: =BC12+AB12 -> 44.490214 | BI12: =BH12/D12 -> 0.55264807 | BJ12: =BF12/E12 -> 0.53524958 | BK12: =BH12/BD12 -> #DIV/0! | BL12: ='[1]Recettes intérieures'!AB10 -> 0 | BM12: ='[1]Recettes intérieures'!AE10 -> 0 | BN12: ='[1]Recettes intérieures'!AD10 -> 0 | BO12: =BM12-BN12 -> 0 | BP12: =BF12+BM12 -> 45.896326 | BQ12: =BG12+BN12 -> 1.4061129 | BR12: =BP12-BQ12 -> 44.490214 | BS12: =BP12/B12 -> 0.53524958 | BT12: ='[1]Recettes intérieures'!AF10 -> 0 | BU12: ='[1]Recettes intérieures'!AI10 -> 0 | BV12: ='[1]Recettes intérieures'!AH10 -> 0 | BW12: =BU12-BV12 -> 0 | BX12: =BP12+BU12 -> 45.896326 | BY12: =BQ12+BV12 -> 1.4061129 | BZ12: =BX12-BY12 -> 44.490214 | CA12: =BX12/B12 -> 0.53524958 | CB12: ='[1]Recettes intérieures'!AJ10 -> 0 | CC12: ='[1]Recettes intérieures'!AM10 -> 0 | CD12: ='[1]Recettes intérieures'!AL10 -> 0 | CE12: =CC12-CD12 -> 0 | CG12: =CB12+BT12+BL12 -> 0 | CH12: =BM12+BU12+CC12 -> 0 | CI12: =BN12+BV12+CD12 -> 0 | CJ12: =CH12-CI12 -> 0 | CL12: =CG12+BE12 -> 27.333632 | CM12: =BX12+CC12 -> 45.896326 | CN12: =BY12+CD12 -> 1.4061129 | CO12: =CM12-CN12 -> 44.490214 | CP12: =CM12/B12 -> 0.53524958 | CQ12: =CM12/E12 -> 0.53524958 | CR12: =CO12/CK12 -> #DIV/0! | CS12: ='[1]Recettes intérieures'!AN10 -> 0 | CT12: ='[1]Recettes intérieures'!AQ10 -> 0 | CU12: ='[1]Recettes intérieures'!AP10 -> 0 | CV12: =CT12-CU12 -> 0 | CW12: =CM12+CT12 -> 45.896326 | CX12: =CN12+CU12 -> 1.4061129 | CY12: =CW12-CX12 -> 44.490214 | CZ12: ='[1]Recettes intérieures'!AR10 -> 0 | DA12: ='[1]Recettes intérieures'!AU10 -> 0 | DB12: ='[1]Recettes intérieures'!AT10 -> 0 | DC12: =DA12-DB12 -> 0 | DD12: =CW12+DA12 -> 45.896326 | DE12: =CX12+DB12 -> 1.4061129 | DF12: =DD12-DE12 -> 44.490214 | DG12: ='[1]Recettes intérieures'!AV10 -> 0 | DH12: ='[1]Recettes intérieures'!AY10 -> 0 | DI12: ='[1]Recettes intérieures'!AX10 -> 0 | DJ12: =DH12-DI12 -> 0 | DL12: =DG12+CZ12+CS12 -> 0 | DM12: =DH12+DA12+CT12 -> 0 | DN12: =DI12+DB12+CU12 -> 0 | DO12: =DM12-DN12 -> 0 | DP12: =DK12+CK12 -> 0 | DQ12: =DL12+CL12 -> 27.333632 | DR12: =DD12+DH12 -> 45.896326 | DS12: =DE12+DI12 -> 1.4061129 | DT12: =DR12-DS12 -> 44.490214 | DU12: =DR12/B12 -> 0.53524958 | DV12: =DR12/E12 -> 0.53524958 | DW12: =DT12/H12 -> 4.4750177
A13: Taxes sur les salaires versés et autres rémunérations | B13: ='[1]Recettes intérieures'!B11 -> 0.064798 | D13: =B13-C13 -> 0.064798 | E13: ='[1]Recettes intérieures'!C11 -> 0.064798 | G13: =E13-F13 -> 0.064798 | H13: ='[1]Recettes intérieures'!D11 -> 0.006758 | I13: ='[1]Recettes intérieures'!D11 -> 0.006758 | J13: ='[1]Recettes intérieures'!G11 -> 0.034493514 | K13: ='[1]Recettes intérieures'!F11 -> 0 | L13: =J13-K13 -> 0.034493514 | M13: ='[1]Recettes intérieures'!H11 -> 0.005804 | N13: ='[1]Recettes intérieures'!K11 -> 0.031513107 | O13: ='[1]Recettes intérieures'!J11 -> 0 | P13: =N13-O13 -> 0.031513107 | Q13: =J13+N13 -> 0.066006621 | R13: =K13+O13 -> 0 | S13: =Q13-R13 -> 0.066006621 | T13: ='[1]Recettes intérieures'!L11 -> 0.006157 | U13: ='[1]Recettes intérieures'!O11 -> 0.027995788 | V13: ='[1]Recettes intérieures'!N11 -> 0 | W13: =U13-V13 -> 0.027995788 | Y13: =I13+M13+T13 -> 0.018719 | Z13: =Q13+U13 -> 0.094002409 | AA13: =R13+V13 -> 0 | AB13: =Z13-AA13 -> 0.094002409 | AC13: =AB13/D13 -> 1.4506992 | AD13: =Z13/Y13 -> 5.0217645 | AE13: =AB13/H13 -> 13.909797 | AF13: ='[1]Recettes intérieures'!P11 -> 0.004267 | AG13: ='[1]Recettes intérieures'!S11 -> 0.042899696 | AH13: ='[1]Recettes intérieures'!R11 -> 0 | AI13: =AG13-AH13 -> 0.042899696 | AJ13: =+Z13+AG13 -> 0.1369021 | AK13: =+AA13+AH13 -> 0 | AL13: =AJ13-AK13 -> 0.1369021 | AM13: =AL13/D13 -> 2.112752 | AN13: ='[1]Recettes intérieures'!T11 -> 0 | AO13: ='[1]Recettes intérieures'!W11 -> 0.056391151 | AP13: ='[1]Recettes intérieures'!V11 -> 0 | AQ13: =AO13-AP13 -> 0.056391151 | AR13: =AJ13+AO13 -> 0.19329326 | AS13: =AK13+AP13 -> 0 | AT13: =AR13-AS13 -> 0.19329326 | AU13: ='[1]Recettes intérieures'!X11 -> 0.004538 | AV13: ='[1]Recettes intérieures'!AA11 -> 0.022882803 | AW13: ='[1]Recettes intérieures'!Z11 -> 0 | AX13: =AV13-AW13 -> 0.022882803 | AZ13: =AF13+AN13+AU13 -> 0.008805 | BA13: =AV13+AO13+AG13 -> 0.12217365 | BB13: =AW13+AP13+AH13 -> 0 | BC13: =BA13-BB13 -> 0.12217365 | BD13: =AY13+X13 -> 0 | BE13: =AZ13+Y13 -> 0.027524 | BF13: =BA13+Z13 -> 0.21617606 | BG13: =BB13+AA13 -> 0 | BH13: =BC13+AB13 -> 0.21617606 | BI13: =BH13/D13 -> 3.3361533 | BJ13: =BF13/E13 -> 3.3361533 | BK13: =BH13/BD13 -> #DIV/0! | BL13: ='[1]Recettes intérieures'!AB11 -> 0 | BM13: ='[1]Recettes intérieures'!AE11 -> 0 | BN13: ='[1]Recettes intérieures'!AD11 -> 0 | BO13: =BM13-BN13 -> 0 | BP13: =BF13+BM13 -> 0.21617606 | BQ13: =BG13+BN13 -> 0 | BR13: =BP13-BQ13 -> 0.21617606 | BS13: =BP13/B13 -> 3.3361533 | BT13: ='[1]Recettes intérieures'!AF11 -> 0 | BU13: ='[1]Recettes intérieures'!AI11 -> 0 | BV13: ='[1]Recettes intérieures'!AH11 -> 0 | BW13: =BU13-BV13 -> 0 | BX13: =BP13+BU13 -> 0.21617606 | BY13: =BQ13+BV13 -> 0 | BZ13: =BX13-BY13 -> 0.21617606 | CA13: =BX13/B13 -> 3.3361533 | CB13: ='[1]Recettes intérieures'!AJ11 -> 0 | CC13: ='[1]Recettes intérieures'!AM11 -> 0 | CD13: ='[1]Recettes intérieures'!AL11 -> 0 | CE13: =CC13-CD13 -> 0 | CG13: =CB13+BT13+BL13 -> 0 | CH13: =BM13+BU13+CC13 -> 0 | CI13: =BN13+BV13+CD13 -> 0 | CJ13: =CH13-CI13 -> 0 | CL13: =CG13+BE13 -> 0.027524 | CM13: =BX13+CC13 -> 0.21617606 | CN13: =BY13+CD13 -> 0 | CO13: =CM13-CN13 -> 0.21617606 | CP13: =CM13/B13 -> 3.3361533 | CQ13: =CM13/E13 -> 3.3361533 | CR13: =CO13/CK13 -> #DIV/0! | CS13: ='[1]Recettes intérieures'!AN11 -> 0 | CT13: ='[1]Recettes intérieures'!AQ11 -> 0 | CU13: ='[1]Recettes intérieures'!AP11 -> 0 | CV13: =CT13-CU13 -> 0 | CW13: =CM13+CT13 -> 0.21617606 | CX13: =CN13+CU13 -> 0 | CY13: =CW13-CX13 -> 0.21617606 | CZ13: ='[1]Recettes intérieures'!AR11 -> 0 | DA13: ='[1]Recettes intérieures'!AU11 -> 0 | DB13: ='[1]Recettes intérieures'!AT11 -> 0 | DC13: =DA13-DB13 -> 0 | DD13: =CW13+DA13 -> 0.21617606 | DE13: =CX13+DB13 -> 0 | DF13: =DD13-DE13 -> 0.21617606 | DG13: ='[1]Recettes intérieures'!AV11 -> 0 | DH13: ='[1]Recettes intérieures'!AY11 -> 0 | DI13: ='[1]Recettes intérieures'!AX11 -> 0 | DJ13: =DH13-DI13 -> 0 | DL13: =DG13+CZ13+CS13 -> 0 | DM13: =DH13+DA13+CT13 -> 0 | DN13: =DI13+DB13+CU13 -> 0 | DO13: =DM13-DN13 -> 0 | DP13: =DK13+CK13 -> 0 | DQ13: =DL13+CL13 -> 0.027524 | DR13: =DD13+DH13 -> 0.21617606 | DS13: =DE13+DI13 -> 0 | DT13: =DR13-DS13 -> 0.21617606 | DU13: =DR13/B13 -> 3.3361533 | DV13: =DR13/E13 -> 3.3361533 | DW13: =DT13/H13 -> 31.988171
A14: Taxes sur véhicules | B14: ='[1]Recettes intérieures'!B12 -> 1.025116 | D14: =B14-C14 -> 1.025116 | E14: ='[1]Recettes intérieures'!C12 -> 1.025116 | G14: =E14-F14 -> 1.025116 | H14: ='[1]Recettes intérieures'!D12 -> 0.011196 | I14: ='[1]Recettes intérieures'!D12 -> 0.011196 | J14: ='[1]Recettes intérieures'!G12 -> 0.013491507 | K14: ='[1]Recettes intérieures'!F12 -> 0 | L14: =J14-K14 -> 0.013491507 | M14: ='[1]Recettes intérieures'!H12 -> 0.01107 | N14: ='[1]Recettes intérieures'!K12 -> 0.011096855 | O14: ='[1]Recettes intérieures'!J12 -> 0 | P14: =N14-O14 -> 0.011096855 | Q14: =J14+N14 -> 0.024588362 | R14: =K14+O14 -> 0 | S14: =Q14-R14 -> 0.024588362 | T14: ='[1]Recettes intérieures'!L12 -> 0.010817 | U14: ='[1]Recettes intérieures'!O12 -> 0.024748445 | V14: ='[1]Recettes intérieures'!N12 -> 0 | W14: =U14-V14 -> 0.024748445 | Y14: =I14+M14+T14 -> 0.033083 | Z14: =Q14+U14 -> 0.049336807 | AA14: =R14+V14 -> 0 | AB14: =Z14-AA14 -> 0.049336807 | AC14: =AB14/D14 -> 0.048128024 | AD14: =Z14/Y14 -> 1.4913039 | AE14: =AB14/H14 -> 4.4066459 | AF14: ='[1]Recettes intérieures'!P12 -> 0.00902 | AG14: ='[1]Recettes intérieures'!S12 -> 0.026897827 | AH14: ='[1]Recettes intérieures'!R12 -> 0 | AI14: =AG14-AH14 -> 0.026897827 | AJ14: =+Z14+AG14 -> 0.076234634 | AK14: =+AA14+AH14 -> 0 | AL14: =AJ14-AK14 -> 0.076234634 | AM14: =AL14/D14 -> 0.074366837 | AN14: ='[1]Recettes intérieures'!T12 -> 0.00902 | AO14: ='[1]Recettes intérieures'!W12 -> 0.036359754 | AP14: ='[1]Recettes intérieures'!V12 -> 0 | AQ14: =AO14-AP14 -> 0.036359754 | AR14: =AJ14+AO14 -> 0.11259439 | AS14: =AK14+AP14 -> 0 | AT14: =AR14-AS14 -> 0.11259439 | AU14: ='[1]Recettes intérieures'!X12 -> 0.008683 | AV14: ='[1]Recettes intérieures'!AA12 -> 0.025098643 | AW14: ='[1]Recettes intérieures'!Z12 -> 0 | AX14: =AV14-AW14 -> 0.025098643 | AZ14: =AF14+AN14+AU14 -> 0.026723 | BA14: =AV14+AO14+AG14 -> 0.088356224 | BB14: =AW14+AP14+AH14 -> 0 | BC14: =BA14-BB14 -> 0.088356224 | BD14: =AY14+X14 -> 0 | BE14: =AZ14+Y14 -> 0.059806 | BF14: =BA14+Z14 -> 0.13769303 | BG14: =BB14+AA14 -> 0 | BH14: =BC14+AB14 -> 0.13769303 | BI14: =BH14/D14 -> 0.13431946 | BJ14: =BF14/E14 -> 0.13431946 | BK14: =BH14/BD14 -> #DIV/0! | BL14: ='[1]Recettes intérieures'!AB12 -> 0 | BM14: ='[1]Recettes intérieures'!AE12 -> 0 | BN14: ='[1]Recettes intérieures'!AD12 -> 0 | BO14: =BM14-BN14 -> 0 | BP14: =BF14+BM14 -> 0.13769303 | BQ14: =BG14+BN14 -> 0 | BR14: =BP14-BQ14 -> 0.13769303 | BS14: =BP14/B14 -> 0.13431946 | BT14: ='[1]Recettes intérieures'!AF12 -> 0 | BU14: ='[1]Recettes intérieures'!AI12 -> 0 | BV14: ='[1]Recettes intérieures'!AH12 -> 0 | BW14: =BU14-BV14 -> 0 | BX14: =BP14+BU14 -> 0.13769303 | BY14: =BQ14+BV14 -> 0 | BZ14: =BX14-BY14 -> 0.13769303 | CA14: =BX14/B14 -> 0.13431946 | CB14: ='[1]Recettes intérieures'!AJ12 -> 0 | CC14: ='[1]Recettes intérieures'!AM12 -> 0 | CD14: ='[1]Recettes intérieures'!AL12 -> 0 | CE14: =CC14-CD14 -> 0 | CG14: =CB14+BT14+BL14 -> 0 | CH14: =BM14+BU14+CC14 -> 0 | CI14: =BN14+BV14+CD14 -> 0 | CJ14: =CH14-CI14 -> 0 | CL14: =CG14+BE14 -> 0.059806 | CM14: =BX14+CC14 -> 0.13769303 | CN14: =BY14+CD14 -> 0 | CO14: =CM14-CN14 -> 0.13769303 | CP14: =CM14/B14 -> 0.13431946 | CQ14: =CM14/E14 -> 0.13431946 | CR14: =CO14/CK14 -> #DIV/0! | CS14: ='[1]Recettes intérieures'!AN12 -> 0 | CT14: ='[1]Recettes intérieures'!AQ12 -> 0 | CU14: ='[1]Recettes intérieures'!AP12 -> 0 | CV14: =CT14-CU14 -> 0 | CW14: =CM14+CT14 -> 0.13769303 | CX14: =CN14+CU14 -> 0 | CY14: =CW14-CX14 -> 0.13769303 | CZ14: ='[1]Recettes intérieures'!AR12 -> 0 | DA14: ='[1]Recettes intérieures'!AU12 -> 0 | DB14: ='[1]Recettes intérieures'!AT12 -> 0 | DC14: =DA14-DB14 -> 0 | DD14: =CW14+DA14 -> 0.13769303 | DE14: =CX14+DB14 -> 0 | DF14: =DD14-DE14 -> 0.13769303 | DG14: ='[1]Recettes intérieures'!AV12 -> 0 | DH14: ='[1]Recettes intérieures'!AY12 -> 0 | DI14: ='[1]Recettes intérieures'!AX12 -> 0 | DJ14: =DH14-DI14 -> 0 | DL14: =DG14+CZ14+CS14 -> 0 | DM14: =DH14+DA14+CT14 -> 0 | DN14: =DI14+DB14+CU14 -> 0 | DO14: =DM14-DN14 -> 0 | DP14: =DK14+CK14 -> 0 | DQ14: =DL14+CL14 -> 0.059806 | DR14: =DD14+DH14 -> 0.13769303 | DS14: =DE14+DI14 -> 0 | DT14: =DR14-DS14 -> 0.13769303 | DU14: =DR14/B14 -> 0.13431946 | DV14: =DR14/E14 -> 0.13431946 | DW14: =DT14/H14 -> 12.298413
A15: SAFER part des TVM | B15: ='[1]Recettes intérieures'!B13 -> 0 | D15: =B15-C15 -> 0 | E15: ='[1]Recettes intérieures'!C13 -> 0 | G15: =E15-F15 -> 0 | H15: ='[1]Recettes intérieures'!D13 -> 0.095165 | I15: ='[1]Recettes intérieures'!D13 -> 0.095165 | J15: ='[1]Recettes intérieures'!G13 -> 0.088582809 | K15: ='[1]Recettes intérieures'!F13 -> 0 | L15: =J15-K15 -> 0.088582809 | M15: ='[1]Recettes intérieures'!H13 -> 0.094094 | N15: ='[1]Recettes intérieures'!K13 -> 0.081615769 | O15: ='[1]Recettes intérieures'!J13 -> 0 | P15: =N15-O15 -> 0.081615769 | Q15: =J15+N15 -> 0.17019858 | R15: =K15+O15 -> 0 | S15: =Q15-R15 -> 0.17019858 | T15: ='[1]Recettes intérieures'!L13 -> 0.091944 | U15: ='[1]Recettes intérieures'!O13 -> 0.16753501 | V15: ='[1]Recettes intérieures'!N13 -> 0 | W15: =U15-V15 -> 0.16753501 | Y15: =I15+M15+T15 -> 0.281203 | Z15: =Q15+U15 -> 0.33773358 | AA15: =R15+V15 -> 0 | AB15: =Z15-AA15 -> 0.33773358 | AC15: =AB15/D15 -> #DIV/0! | AD15: =Z15/Y15 -> 1.2010312 | AE15: =AB15/H15 -> 3.5489264 | AF15: ='[1]Recettes intérieures'!P13 -> 0.076669 | AG15: ='[1]Recettes intérieures'!S13 -> 0.20398153 | AH15: ='[1]Recettes intérieures'!R13 -> 0 | AI15: =AG15-AH15 -> 0.20398153 | AJ15: =+Z15+AG15 -> 0.54171511 | AK15: =+AA15+AH15 -> 0 | AL15: =AJ15-AK15 -> 0.54171511 | AM15: =AL15/D15 -> #DIV/0! | AN15: ='[1]Recettes intérieures'!T13 -> 0.076669 | AO15: ='[1]Recettes intérieures'!W13 -> 0.2819854 | AP15: ='[1]Recettes intérieures'!V13 -> 0 | AQ15: =AO15-AP15 -> 0.2819854 | AR15: =AJ15+AO15 -> 0.82370052 | AS15: =AK15+AP15 -> 0 | AT15: =AR15-AS15 -> 0.82370052 | AU15: ='[1]Recettes intérieures'!X13 -> 0.073807 | AV15: ='[1]Recettes intérieures'!AA13 -> 0.20136998 | AW15: ='[1]Recettes intérieures'!Z13 -> 0 | AX15: =AV15-AW15 -> 0.20136998 | AZ15: =AF15+AN15+AU15 -> 0.227145 | BA15: =AV15+AO15+AG15 -> 0.68733692 | BB15: =AW15+AP15+AH15 -> 0 | BC15: =BA15-BB15 -> 0.68733692 | BD15: =AY15+X15 -> 0 | BE15: =AZ15+Y15 -> 0.508348 | BF15: =BA15+Z15 -> 1.0250705 | BG15: =BB15+AA15 -> 0 | BH15: =BC15+AB15 -> 1.0250705 | BI15: =BH15/D15 -> #DIV/0! | BJ15: =BF15/E15 -> #DIV/0! | BK15: =BH15/BD15 -> #DIV/0! | BL15: ='[1]Recettes intérieures'!AB13 -> 0 | BM15: ='[1]Recettes intérieures'!AE13 -> 0 | BN15: ='[1]Recettes intérieures'!AD13 -> 0 | BO15: =BM15-BN15 -> 0 | BP15: =BF15+BM15 -> 1.0250705 | BQ15: =BG15+BN15 -> 0 | BR15: =BP15-BQ15 -> 1.0250705 | BS15: =BP15/B15 -> #DIV/0! | BT15: ='[1]Recettes intérieures'!AF13 -> 0 | BU15: ='[1]Recettes intérieures'!AI13 -> 0 | BV15: ='[1]Recettes intérieures'!AH13 -> 0 | BW15: =BU15-BV15 -> 0 | BX15: =BP15+BU15 -> 1.0250705 | BY15: =BQ15+BV15 -> 0 | BZ15: =BX15-BY15 -> 1.0250705 | CA15: =BX15/B15 -> #DIV/0! | CB15: ='[1]Recettes intérieures'!AJ13 -> 0 | CC15: ='[1]Recettes intérieures'!AM13 -> 0 | CD15: ='[1]Recettes intérieures'!AL13 -> 0 | CE15: =CC15-CD15 -> 0 | CG15: =CB15+BT15+BL15 -> 0 | CH15: =BM15+BU15+CC15 -> 0 | CI15: =BN15+BV15+CD15 -> 0 | CJ15: =CH15-CI15 -> 0 | CL15: =CG15+BE15 -> 0.508348 | CM15: =BX15+CC15 -> 1.0250705 | CN15: =BY15+CD15 -> 0 | CO15: =CM15-CN15 -> 1.0250705 | CP15: =CM15/B15 -> #DIV/0! | CQ15: =CM15/E15 -> #DIV/0! | CR15: =CO15/CK15 -> #DIV/0! | CS15: ='[1]Recettes intérieures'!AN13 -> 0 | CT15: ='[1]Recettes intérieures'!AQ13 -> 0 | CU15: ='[1]Recettes intérieures'!AP13 -> 0 | CV15: =CT15-CU15 -> 0 | CW15: =CM15+CT15 -> 1.0250705 | CX15: =CN15+CU15 -> 0 | CY15: =CW15-CX15 -> 1.0250705 | CZ15: ='[1]Recettes intérieures'!AR13 -> 0 | DA15: ='[1]Recettes intérieures'!AU13 -> 0 | DB15: ='[1]Recettes intérieures'!AT13 -> 0 | DC15: =DA15-DB15 -> 0 | DD15: =CW15+DA15 -> 1.0250705 | DE15: =CX15+DB15 -> 0 | DF15: =DD15-DE15 -> 1.0250705 | DG15: ='[1]Recettes intérieures'!AV13 -> 0 | DH15: ='[1]Recettes intérieures'!AY13 -> 0 | DI15: ='[1]Recettes intérieures'!AX13 -> 0 | DJ15: =DH15-DI15 -> 0 | DL15: =DG15+CZ15+CS15 -> 0 | DM15: =DH15+DA15+CT15 -> 0 | DN15: =DI15+DB15+CU15 -> 0 | DO15: =DM15-DN15 -> 0 | DP15: =DK15+CK15 -> 0 | DQ15: =DL15+CL15 -> 0.508348 | DR15: =DD15+DH15 -> 1.0250705 | DS15: =DE15+DI15 -> 0 | DT15: =DR15-DS15 -> 1.0250705 | DU15: =DR15/B15 -> #DIV/0! | DV15: =DR15/E15 -> #DIV/0! | DW15: =DT15/H15 -> 10.771507
A16: Taxe foncière et droits d'immatriculation | B16: ='[1]Recettes intérieures'!B14 -> 2.148539 | D16: =B16-C16 -> 2.148539 | E16: ='[1]Recettes intérieures'!C14 -> 2.148539 | G16: =E16-F16 -> 2.148539 | H16: ='[1]Recettes intérieures'!D14 -> 0.137843 | I16: ='[1]Recettes intérieures'!D14 -> 0.137843 | J16: ='[1]Recettes intérieures'!G14 -> 0.12162022 | K16: ='[1]Recettes intérieures'!F14 -> 0 | L16: =J16-K16 -> 0.12162022 | M16: ='[1]Recettes intérieures'!H14 -> 0.106694 | N16: ='[1]Recettes intérieures'!K14 -> 0.10687423 | O16: ='[1]Recettes intérieures'!J14 -> 0 | P16: =N16-O16 -> 0.10687423 | Q16: =J16+N16 -> 0.22849445 | R16: =K16+O16 -> 0 | S16: =Q16-R16 -> 0.22849445 | T16: ='[1]Recettes intérieures'!L14 -> 0.140252 | U16: ='[1]Recettes intérieures'!O14 -> 0.07128969 | V16: ='[1]Recettes intérieures'!N14 -> 0 | W16: =U16-V16 -> 0.07128969 | Y16: =I16+M16+T16 -> 0.384789 | Z16: =Q16+U16 -> 0.29978414 | AA16: =R16+V16 -> 0 | AB16: =Z16-AA16 -> 0.29978414 | AC16: =AB16/D16 -> 0.1395293 | AD16: =Z16/Y16 -> 0.77908708 | AE16: =AB16/H16 -> 2.1748231 | AF16: ='[1]Recettes intérieures'!P14 -> 0.105296 | AG16: ='[1]Recettes intérieures'!S14 -> 0.086923635 | AH16: ='[1]Recettes intérieures'!R14 -> 0 | AI16: =AG16-AH16 -> 0.086923635 | AJ16: =+Z16+AG16 -> 0.38670777 | AK16: =+AA16+AH16 -> 0 | AL16: =AJ16-AK16 -> 0.38670777 | AM16: =AL16/D16 -> 0.17998639 | AN16: ='[1]Recettes intérieures'!T14 -> 0 | AO16: ='[1]Recettes intérieures'!W14 -> 0.067766761 | AP16: ='[1]Recettes intérieures'!V14 -> 0 | AQ16: =AO16-AP16 -> 0.067766761 | AR16: =AJ16+AO16 -> 0.45447454 | AS16: =AK16+AP16 -> 0 | AT16: =AR16-AS16 -> 0.45447454 | AU16: ='[1]Recettes intérieures'!X14 -> 0.221846 | AV16: ='[1]Recettes intérieures'!AA14 -> 0.078944482 | AW16: ='[1]Recettes intérieures'!Z14 -> 0 | AX16: =AV16-AW16 -> 0.078944482 | AZ16: =AF16+AN16+AU16 -> 0.327142 | BA16: =AV16+AO16+AG16 -> 0.23363488 | BB16: =AW16+AP16+AH16 -> 0 | BC16: =BA16-BB16 -> 0.23363488 | BD16: =AY16+X16 -> 0 | BE16: =AZ16+Y16 -> 0.711931 | BF16: =BA16+Z16 -> 0.53341902 | BG16: =BB16+AA16 -> 0 | BH16: =BC16+AB16 -> 0.53341902 | BI16: =BH16/D16 -> 0.24827058 | BJ16: =BF16/E16 -> 0.24827058 | BK16: =BH16/BD16 -> #DIV/0! | BL16: ='[1]Recettes intérieures'!AB14 -> 0 | BM16: ='[1]Recettes intérieures'!AE14 -> 0 | BN16: ='[1]Recettes intérieures'!AD14 -> 0 | BO16: =BM16-BN16 -> 0 | BP16: =BF16+BM16 -> 0.53341902 | BQ16: =BG16+BN16 -> 0 | BR16: =BP16-BQ16 -> 0.53341902 | BS16: =BP16/B16 -> 0.24827058 | BT16: ='[1]Recettes intérieures'!AF14 -> 0 | BU16: ='[1]Recettes intérieures'!AI14 -> 0 | BV16: ='[1]Recettes intérieures'!AH14 -> 0 | BW16: =BU16-BV16 -> 0 | BX16: =BP16+BU16 -> 0.53341902 | BY16: =BQ16+BV16 -> 0 | BZ16: =BX16-BY16 -> 0.53341902 | CA16: =BX16/B16 -> 0.24827058 | CB16: ='[1]Recettes intérieures'!AJ14 -> 0 | CC16: ='[1]Recettes intérieures'!AM14 -> 0 | CD16: ='[1]Recettes intérieures'!AL14 -> 0 | CE16: =CC16-CD16 -> 0 | CG16: =CB16+BT16+BL16 -> 0 | CH16: =BM16+BU16+CC16 -> 0 | CI16: =BN16+BV16+CD16 -> 0 | CJ16: =CH16-CI16 -> 0 | CL16: =CG16+BE16 -> 0.711931 | CM16: =BX16+CC16 -> 0.53341902 | CN16: =BY16+CD16 -> 0 | CO16: =CM16-CN16 -> 0.53341902 | CP16: =CM16/B16 -> 0.24827058 | CQ16: =CM16/E16 -> 0.24827058 | CR16: =CO16/CK16 -> #DIV/0! | CS16: ='[1]Recettes intérieures'!AN14 -> 0 | CT16: ='[1]Recettes intérieures'!AQ14 -> 0 | CU16: ='[1]Recettes intérieures'!AP14 -> 0 | CV16: =CT16-CU16 -> 0 | CW16: =CM16+CT16 -> 0.53341902 | CX16: =CN16+CU16 -> 0 | CY16: =CW16-CX16 -> 0.53341902 | CZ16: ='[1]Recettes intérieures'!AR14 -> 0 | DA16: ='[1]Recettes intérieures'!AU14 -> 0 | DB16: ='[1]Recettes intérieures'!AT14 -> 0 | DC16: =DA16-DB16 -> 0 | DD16: =CW16+DA16 -> 0.53341902 | DE16: =CX16+DB16 -> 0 | DF16: =DD16-DE16 -> 0.53341902 | DG16: ='[1]Recettes intérieures'!AV14 -> 0 | DH16: ='[1]Recettes intérieures'!AY14 -> 0 | DI16: ='[1]Recettes intérieures'!AX14 -> 0 | DJ16: =DH16-DI16 -> 0 | DL16: =DG16+CZ16+CS16 -> 0 | DM16: =DH16+DA16+CT16 -> 0 | DN16: =DI16+DB16+CU16 -> 0 | DO16: =DM16-DN16 -> 0 | DP16: =DK16+CK16 -> 0 | DQ16: =DL16+CL16 -> 0.711931 | DR16: =DD16+DH16 -> 0.53341902 | DS16: =DE16+DI16 -> 0 | DT16: =DR16-DS16 -> 0.53341902 | DU16: =DR16/B16 -> 0.24827058 | DV16: =DR16/E16 -> 0.24827058 | DW16: =DT16/H16 -> 3.8697578
A17: Taxes professionnelles | B17: ='[1]Recettes intérieures'!B15 -> 0 | D17: =B17-C17 -> 0 | E17: ='[1]Recettes intérieures'!C15 -> 0 | G17: =E17-F17 -> 0 | H17: ='[1]Recettes intérieures'!D15 -> 0 | I17: ='[1]Recettes intérieures'!D15 -> 0 | J17: ='[1]Recettes intérieures'!G15 -> 0.011834826 | K17: ='[1]Recettes intérieures'!F15 -> 0 | L17: =J17-K17 -> 0.011834826 | M17: ='[1]Recettes intérieures'!H15 -> 0 | N17: ='[1]Recettes intérieures'!K15 -> 0.002921391 | O17: ='[1]Recettes intérieures'!J15 -> 0 | P17: =N17-O17 -> 0.002921391 | Q17: =J17+N17 -> 0.014756217 | R17: =K17+O17 -> 0 | S17: =Q17-R17 -> 0.014756217 | T17: ='[1]Recettes intérieures'!L15 -> 0 | U17: ='[1]Recettes intérieures'!O15 -> 0.003606477 | V17: ='[1]Recettes intérieures'!N15 -> 0 | W17: =U17-V17 -> 0.003606477 | Y17: =I17+M17+T17 -> 0 | Z17: =Q17+U17 -> 0.018362694 | AA17: =R17+V17 -> 0 | AB17: =Z17-AA17 -> 0.018362694 | AC17: =AB17/D17 -> #DIV/0! | AD17: =Z17/Y17 -> #DIV/0! | AE17: =AB17/H17 -> #DIV/0! | AF17: ='[1]Recettes intérieures'!P15 -> 0 | AG17: ='[1]Recettes intérieures'!S15 -> 0.003261984 | AH17: ='[1]Recettes intérieures'!R15 -> 0 | AI17: =AG17-AH17 -> 0.003261984 | AJ17: =+Z17+AG17 -> 0.021624678 | AK17: =+AA17+AH17 -> 0 | AL17: =AJ17-AK17 -> 0.021624678 | AM17: =AL17/D17 -> #DIV/0! | AN17: ='[1]Recettes intérieures'!T15 -> 0 | AO17: ='[1]Recettes intérieures'!W15 -> 0.004702205 | AP17: ='[1]Recettes intérieures'!V15 -> 0 | AQ17: =AO17-AP17 -> 0.004702205 | AR17: =AJ17+AO17 -> 0.026326883 | AS17: =AK17+AP17 -> 0 | AT17: =AR17-AS17 -> 0.026326883 | AU17: ='[1]Recettes intérieures'!X15 -> 0 | AV17: ='[1]Recettes intérieures'!AA15 -> 0.002698227 | AW17: ='[1]Recettes intérieures'!Z15 -> 0 | AX17: =AV17-AW17 -> 0.002698227 | AZ17: =AF17+AN17+AU17 -> 0 | BA17: =AV17+AO17+AG17 -> 0.010662416 | BB17: =AW17+AP17+AH17 -> 0 | BC17: =BA17-BB17 -> 0.010662416 | BD17: =AY17+X17 -> 0 | BE17: =AZ17+Y17 -> 0 | BF17: =BA17+Z17 -> 0.02902511 | BG17: =BB17+AA17 -> 0 | BH17: =BC17+AB17 -> 0.02902511 | BI17: =BH17/D17 -> #DIV/0! | BJ17: =BF17/E17 -> #DIV/0! | BK17: =BH17/BD17 -> #DIV/0! | BL17: ='[1]Recettes intérieures'!AB15 -> 0 | BM17: ='[1]Recettes intérieures'!AE15 -> 0 | BN17: ='[1]Recettes intérieures'!AD15 -> 0 | BO17: =BM17-BN17 -> 0 | BP17: =BF17+BM17 -> 0.02902511 | BQ17: =BG17+BN17 -> 0 | BR17: =BP17-BQ17 -> 0.02902511 | BS17: =BP17/B17 -> #DIV/0! | BT17: ='[1]Recettes intérieures'!AF15 -> 0 | BU17: ='[1]Recettes intérieures'!AI15 -> 0 | BV17: ='[1]Recettes intérieures'!AH15 -> 0 | BW17: =BU17-BV17 -> 0 | BX17: =BP17+BU17 -> 0.02902511 | BY17: =BQ17+BV17 -> 0 | BZ17: =BX17-BY17 -> 0.02902511 | CA17: =BX17/B17 -> #DIV/0! | CB17: ='[1]Recettes intérieures'!AJ15 -> 0 | CC17: ='[1]Recettes intérieures'!AM15 -> 0 | CD17: ='[1]Recettes intérieures'!AL15 -> 0 | CE17: =CC17-CD17 -> 0 | CG17: =CB17+BT17+BL17 -> 0 | CH17: =BM17+BU17+CC17 -> 0 | CI17: =BN17+BV17+CD17 -> 0 | CJ17: =CH17-CI17 -> 0 | CL17: =CG17+BE17 -> 0 | CM17: =BX17+CC17 -> 0.02902511 | CN17: =BY17+CD17 -> 0 | CO17: =CM17-CN17 -> 0.02902511 | CP17: =CM17/B17 -> #DIV/0! | CQ17: =CM17/E17 -> #DIV/0! | CR17: =CO17/CK17 -> #DIV/0! | CS17: ='[1]Recettes intérieures'!AN15 -> 0 | CT17: ='[1]Recettes intérieures'!AQ15 -> 0 | CU17: ='[1]Recettes intérieures'!AP15 -> 0 | CV17: =CT17-CU17 -> 0 | CW17: =CM17+CT17 -> 0.02902511 | CX17: =CN17+CU17 -> 0 | CY17: =CW17-CX17 -> 0.02902511 | CZ17: ='[1]Recettes intérieures'!AR15 -> 0 | DA17: ='[1]Recettes intérieures'!AU15 -> 0 | DB17: ='[1]Recettes intérieures'!AT15 -> 0 | DC17: =DA17-DB17 -> 0 | DD17: =CW17+DA17 -> 0.02902511 | DE17: =CX17+DB17 -> 0 | DF17: =DD17-DE17 -> 0.02902511 | DG17: ='[1]Recettes intérieures'!AV15 -> 0 | DH17: ='[1]Recettes intérieures'!AY15 -> 0 | DI17: ='[1]Recettes intérieures'!AX15 -> 0 | DJ17: =DH17-DI17 -> 0 | DL17: =DG17+CZ17+CS17 -> 0 | DM17: =DH17+DA17+CT17 -> 0 | DN17: =DI17+DB17+CU17 -> 0 | DO17: =DM17-DN17 -> 0 | DP17: =DK17+CK17 -> 0 | DQ17: =DL17+CL17 -> 0 | DR17: =DD17+DH17 -> 0.02902511 | DS17: =DE17+DI17 -> 0 | DT17: =DR17-DS17 -> 0.02902511 | DU17: =DR17/B17 -> #DIV/0! | DV17: =DR17/E17 -> #DIV/0! | DW17: =DT17/H17 -> #DIV/0!
A18: Autres impôts directs | B18: ='[1]Recettes intérieures'!B16 -> 2.1413 | D18: =B18-C18 -> 2.1413 | E18: ='[1]Recettes intérieures'!C16 -> 2.1413 | G18: =E18-F18 -> 2.1413 | H18: =[1]Togo_Fisc!AY15-SUM(H11:H17)-H19-H26 -> 314.60255 | I18: ='[1]Recettes intérieures'!D16 -> 0.23375025 | J18: ='[1]Recettes intérieures'!G16 -> 0.97458437 | K18: ='[1]Recettes intérieures'!F16 -> 0 | L18: =J18-K18 -> 0.97458437 | M18: ='[1]Recettes intérieures'!H16 -> 0.11596425 | N18: ='[1]Recettes intérieures'!K16 -> 0.31247686 | O18: ='[1]Recettes intérieures'!J16 -> 0 | P18: =N18-O18 -> 0.31247686 | Q18: =J18+N18 -> 1.2870612 | R18: =K18+O18 -> 0 | S18: =Q18-R18 -> 1.2870612 | T18: ='[1]Recettes intérieures'!L16 -> 0.019973 | U18: ='[1]Recettes intérieures'!O16 -> 0.096284696 | V18: ='[1]Recettes intérieures'!N16 -> 0 | W18: =U18-V18 -> 0.096284696 | Y18: =I18+M18+T18 -> 0.3696875 | Z18: =Q18+U18 -> 1.3833459 | AA18: =R18+V18 -> 0 | AB18: =Z18-AA18 -> 1.3833459 | AC18: =AB18/D18 -> 0.64603088 | AD18: =Z18/Y18 -> 3.7419332 | AE18: =AB18/H18 -> 0.0043971224 | AF18: ='[1]Recettes intérieures'!P16 -> 0.161812 | AG18: ='[1]Recettes intérieures'!S16 -> 0.04932034 | AH18: ='[1]Recettes intérieures'!R16 -> 0 | AI18: =AG18-AH18 -> 0.04932034 | AJ18: =+Z18+AG18 -> 1.4326663 | AK18: =+AA18+AH18 -> 0 | AL18: =AJ18-AK18 -> 1.4326663 | AM18: =AL18/D18 -> 0.66906378 | AN18: ='[1]Recettes intérieures'!T16 -> 0 | AO18: ='[1]Recettes intérieures'!W16 -> 0.8888364 | AP18: ='[1]Recettes intérieures'!V16 -> 0 | AQ18: =AO18-AP18 -> 0.8888364 | AR18: =AJ18+AO18 -> 2.3215027 | AS18: =AK18+AP18 -> 0 | AT18: =AR18-AS18 -> 2.3215027 | AU18: ='[1]Recettes intérieures'!X16 -> 0.120125 | AV18: ='[1]Recettes intérieures'!AA16 -> 0.28998599 | AW18: ='[1]Recettes intérieures'!Z16 -> 0 | AX18: =AV18-AW18 -> 0.28998599 | AZ18: =AF18+AN18+AU18 -> 0.281937 | BA18: =AV18+AO18+AG18 -> 1.2281427 | BB18: =AW18+AP18+AH18 -> 0 | BC18: =BA18-BB18 -> 1.2281427 | BD18: =AY18+X18 -> 0 | BE18: =AZ18+Y18 -> 0.6516245 | BF18: =BA18+Z18 -> 2.6114887 | BG18: =BB18+AA18 -> 0 | BH18: =BC18+AB18 -> 2.6114887 | BI18: =BH18/D18 -> 1.2195809 | BJ18: =BF18/E18 -> 1.2195809 | BK18: =BH18/BD18 -> #DIV/0! | BL18: ='[1]Recettes intérieures'!AB16 -> 0 | BM18: ='[1]Recettes intérieures'!AE16 -> 0 | BN18: ='[1]Recettes intérieures'!AD16 -> 0 | BO18: =BM18-BN18 -> 0 | BP18: =BF18+BM18 -> 2.6114887 | BQ18: =BG18+BN18 -> 0 | BR18: =BP18-BQ18 -> 2.6114887 | BS18: =BP18/B18 -> 1.2195809 | BT18: ='[1]Recettes intérieures'!AF16 -> 0 | BU18: ='[1]Recettes intérieures'!AI16 -> 0 | BV18: ='[1]Recettes intérieures'!AH16 -> 0 | BW18: =BU18-BV18 -> 0 | BX18: =BP18+BU18 -> 2.6114887 | BY18: =BQ18+BV18 -> 0 | BZ18: =BX18-BY18 -> 2.6114887 | CA18: =BX18/B18 -> 1.2195809 | CB18: ='[1]Recettes intérieures'!AJ16 -> 0 | CC18: ='[1]Recettes intérieures'!AM16 -> 0 | CD18: ='[1]Recettes intérieures'!AL16 -> 0 | CE18: =CC18-CD18 -> 0 | CG18: =CB18+BT18+BL18 -> 0 | CH18: =BM18+BU18+CC18 -> 0 | CI18: =BN18+BV18+CD18 -> 0 | CJ18: =CH18-CI18 -> 0 | CL18: =CG18+BE18 -> 0.6516245 | CM18: =BX18+CC18 -> 2.6114887 | CN18: =BY18+CD18 -> 0 | CO18: =CM18-CN18 -> 2.6114887 | CP18: =CM18/B18 -> 1.2195809 | CQ18: =CM18/E18 -> 1.2195809 | CR18: =CO18/CK18 -> #DIV/0! | CS18: ='[1]Recettes intérieures'!AN16 -> 0 | CT18: ='[1]Recettes intérieures'!AQ16 -> 0 | CU18: ='[1]Recettes intérieures'!AP16 -> 0 | CV18: =CT18-CU18 -> 0 | CW18: =CM18+CT18 -> 2.6114887 | CX18: =CN18+CU18 -> 0 | CY18: =CW18-CX18 -> 2.6114887 | CZ18: ='[1]Recettes intérieures'!AR16 -> 0 | DA18: ='[1]Recettes intérieures'!AU16 -> 0 | DB18: ='[1]Recettes intérieures'!AT16 -> 0 | DC18: =DA18-DB18 -> 0 | DD18: =CW18+DA18 -> 2.6114887 | DE18: =CX18+DB18 -> 0 | DF18: =DD18-DE18 -> 2.6114887 | DG18: ='[1]Recettes intérieures'!AV16 -> 0 | DH18: ='[1]Recettes intérieures'!AY16 -> 0 | DI18: ='[1]Recettes intérieures'!AX16 -> 0 | DJ18: =DH18-DI18 -> 0 | DL18: =DG18+CZ18+CS18 -> 0 | DM18: =DH18+DA18+CT18 -> 0 | DN18: =DI18+DB18+CU18 -> 0 | DO18: =DM18-DN18 -> 0 | DP18: =DK18+CK18 -> 0 | DQ18: =DL18+CL18 -> 0.6516245 | DR18: =DD18+DH18 -> 2.6114887 | DS18: =DE18+DI18 -> 0 | DT18: =DR18-DS18 -> 2.6114887 | DU18: =DR18/B18 -> 1.2195809 | DV18: =DR18/E18 -> 1.2195809 | DW18: =DT18/H18 -> 0.0083009138
A19: CONTRIBUTIONS INDIRECTES | B19: =SUM(B20:B25) -> 183.02542 | C19: =SUM(C20:C25) -> 10.487652 | D19: =SUM(D20:D25) -> 172.53777 | E19: =SUM(E20:E25) -> 183.02542 | F19: =SUM(F20:F25) -> 10.487652 | G19: =SUM(G20:G25) -> 172.53777 | H19: =SUM(H20:H25) -> 15.4687 | I19: =SUM(I20:I25) -> 15.4687 | ... AB19: =SUM(AB20:AB25) -> 43.974786 | AC19: =AB19/D19 -> 0.25487049 | AD19: =Z19/Y19 -> 1.0653477 | AE19: =AB19/H19 -> 2.8428236 | AF19: =SUM(AF20:AF25) -> 16.052764 | AG19: =SUM(AG20:AG25) -> 18.485458 | AH19: =SUM(AH20:AH25) -> 1.5073467 | AI19: =SUM(AI20:AI25) -> 16.978111 | AJ19: =SUM(AJ20:AJ25) -> 64.305741 | AK19: =SUM(AK20:AK25) -> 3.3528449 | AL19: =SUM(AL20:AL25) -> 60.952896 | AM19: =AL19/D19 -> 0.35327278 | AN19: =SUM(AN20:AN25) -> 14.732793 | AO19: =SUM(AO20:AO25) -> 15.660819 | AP19: =SUM(AP20:AP25) -> 0.44395368 | AQ19: =SUM(AQ20:AQ25) -> 15.216865 | AR19: =SUM(AR20:AR25) -> 79.96656 | AS19: =SUM(AS20:AS25) -> 3.7967986 | AT19: =SUM(AT20:AT25) -> 76.169762 | AU19: =SUM(AU20:AU25) -> 13.697393 | ... BH19: =SUM(BH20:BH25) -> 92.541308 | BI19: =BH19/D19 -> 0.53635392 | BJ19: =BF19/E19 -> 0.5333131 | BK19: =BH19/BD19 -> #DIV/0! | BL19: =SUM(BL20:BL25) -> 0 | BM19: =SUM(BM20:BM25) -> 0 | BN19: =SUM(BN20:BN25) -> 0 | BO19: =SUM(BO20:BO25) -> 0 | BP19: =SUM(BP20:BP25) -> 97.609854 | BQ19: =SUM(BQ20:BQ25) -> 5.0685459 | BR19: =SUM(BR20:BR25) -> 92.541308 | BS19: =BP19/B19 -> 0.5333131 | BT19: =SUM(BT20:BT25) -> 0 | BU19: =SUM(BU20:BU25) -> 0 | BV19: =SUM(BV20:BV25) -> 0 | BW19: =SUM(BW20:BW25) -> 0 | BX19: =SUM(BX20:BX25) -> 97.609854 | BY19: =SUM(BY20:BY25) -> 5.0685459 | BZ19: =SUM(BZ20:BZ25) -> 92.541308 | CA19: =BX19/B19 -> 0.5333131 | CB19: =SUM(CB20:CB25) -> 0 | CC19: =SUM(CC20:CC25) -> 0 | CD19: =SUM(CD20:CD25) -> 0 | CE19: =SUM(CE20:CE25) -> 0 | CF19: =SUM(CF20:CF25) -> 0 | CG19: =SUM(CG20:CG25) -> 0 | CH19: =SUM(CH20:CH25) -> 0 | CI19: =SUM(CI20:CI25) -> 0 | ... CO19: =SUM(CO20:CO25) -> 92.541308 | CP19: =CM19/B19 -> 0.5333131 | CQ19: =CM19/E19 -> 0.5333131 | CR19: =CO19/CK19 -> #DIV/0! | CS19: =SUM(CS20:CS25) -> 0 | CT19: =SUM(CT20:CT25) -> 0 | CU19: =SUM(CU20:CU25) -> 0 | CV19: =SUM(CV20:CV25) -> 0 | CW19: =SUM(CW20:CW25) -> 97.609854 | CX19: =SUM(CX20:CX25) -> 5.0685459 | CY19: =SUM(CY20:CY25) -> 92.541308 | CZ19: =SUM(CZ20:CZ25) -> 0 | ... DT19: =SUM(DT20:DT25) -> 92.541308 | DU19: =DR19/B19 -> 0.5333131 | DV19: =DR19/E19 -> 0.5333131 | DW19: =DT19/H19 -> 5.9824877
A20: Taxes sur le chiffre d'affaires (TVA & TAF) | B20: ='[1]Recettes intérieures'!B18 -> 137.52133 | C20: =2/3*'[1]CI (Ex-DGI)'!B56 -> 10.487652 | D20: =B20-C20 -> 127.03368 | E20: ='[1]Recettes intérieures'!C18 -> 137.52133 | F20: =2/3*'[1]CI (Ex-DGI)'!C56 -> 10.487652 | G20: =E20-F20 -> 127.03368 | H20: ='[1]Recettes intérieures'!D18 -> 11.497162 | I20: ='[1]Recettes intérieures'!D18 -> 11.497162 | J20: ='[1]Recettes intérieures'!G18 -> 12.379268 | K20: ='[1]Recettes intérieures'!F18 -> 0.2263653 | L20: =J20-K20 -> 12.152903 | M20: ='[1]Recettes intérieures'!H18 -> 9.021027 | N20: ='[1]Recettes intérieures'!K18 -> 8.5806387 | O20: ='[1]Recettes intérieures'!J18 -> 0.30106096 | P20: =N20-O20 -> 8.2795778 | Q20: =J20+N20 -> 20.959907 | R20: =K20+O20 -> 0.52742626 | S20: =Q20-R20 -> 20.432481 | T20: ='[1]Recettes intérieures'!L18 -> 11.074222 | U20: ='[1]Recettes intérieures'!O18 -> 9.9541238 | V20: ='[1]Recettes intérieures'!N18 -> 1.2850787 | W20: =U20-V20 -> 8.6690451 | Y20: =I20+M20+T20 -> 31.592411 | Z20: =Q20+U20 -> 30.914031 | AA20: =R20+V20 -> 1.812505 | AB20: =S20+W20 -> 29.101526 | AC20: =AB20/D20 -> 0.22908512 | AD20: =Z20/Y20 -> 0.97852712 | AE20: =AB20/H20 -> 2.5311921 | AF20: ='[1]Recettes intérieures'!P18 -> 12.468509 | AG20: ='[1]Recettes intérieures'!S18 -> 12.829058 | AH20: ='[1]Recettes intérieures'!R18 -> 1.4807725 | AI20: =AG20-AH20 -> 11.348286 | AJ20: =+Z20+AG20 -> 43.74309 | AK20: =+AA20+AH20 -> 3.2932775 | AL20: =AJ20-AK20 -> 40.449812 | AM20: =AL20/D20 -> 0.31841801 | AN20: ='[1]Recettes intérieures'!T18 -> 12.468509 | AO20: ='[1]Recettes intérieures'!W18 -> 10.566179 | AP20: ='[1]Recettes intérieures'!V18 -> 0.42173571 | AQ20: =AO20-AP20 -> 10.144443 | AR20: =AJ20+AO20 -> 54.309268 | AS20: =AK20+AP20 -> 3.7150132 | AT20: =AR20-AS20 -> 50.594255 | AU20: ='[1]Recettes intérieures'!X18 -> 9.585966 | AV20: ='[1]Recettes intérieures'!AA18 -> 11.709755 | AW20: ='[1]Recettes intérieures'!Z18 -> 1.2700611 | AX20: =AV20-AW20 -> 10.439694 | AZ20: =AF20+AN20+AU20 -> 34.522984 | BA20: =AV20+AO20+AG20 -> 35.104993 | BB20: =AW20+AP20+AH20 -> 3.1725694 | BC20: =BA20-BB20 -> 31.932423 | BD20: =AY20+X20 -> 0 | BE20: =AZ20+Y20 -> 66.115395 | BF20: =BA20+Z20 -> 66.019024 | BG20: =BB20+AA20 -> 4.9850743 | BH20: =BC20+AB20 -> 61.033949 | BI20: =BH20/D20 -> 0.48045485 | BJ20: =BF20/E20 -> 0.48006387 | BK20: =BH20/BD20 -> #DIV/0! | BL20: ='[1]Recettes intérieures'!AB18 -> 0 | BM20: ='[1]Recettes intérieures'!AE18 -> 0 | BN20: ='[1]Recettes intérieures'!AD18 -> 0 | BO20: =BM20-BN20 -> 0 | BP20: =BF20+BM20 -> 66.019024 | BQ20: =BG20+BN20 -> 4.9850743 | BR20: =BP20-BQ20 -> 61.033949 | BS20: =BP20/B20 -> 0.48006387 | BT20: ='[1]Recettes intérieures'!AF18 -> 0 | BU20: ='[1]Recettes intérieures'!AI18 -> 0 | BV20: ='[1]Recettes intérieures'!AH18 -> 0 | BW20: =BU20-BV20 -> 0 | BX20: =BP20+BU20 -> 66.019024 | BY20: =BQ20+BV20 -> 4.9850743 | BZ20: =BX20-BY20 -> 61.033949 | CA20: =BX20/B20 -> 0.48006387 | CB20: ='[1]Recettes intérieures'!AJ18 -> 0 | CC20: ='[1]Recettes intérieures'!AM18 -> 0 | CD20: ='[1]Recettes intérieures'!AL18 -> 0 | CE20: =CC20-CD20 -> 0 | CG20: =CB20+BT20+BL20 -> 0 | CH20: =BM20+BU20+CC20 -> 0 | CI20: =BN20+BV20+CD20 -> 0 | CJ20: =CH20-CI20 -> 0 | CL20: =CG20+BE20 -> 66.115395 | CM20: =BX20+CC20 -> 66.019024 | CN20: =BY20+CD20 -> 4.9850743 | CO20: =CM20-CN20 -> 61.033949 | CP20: =CM20/B20 -> 0.48006387 | CQ20: =CM20/E20 -> 0.48006387 | CR20: =CO20/CK20 -> #DIV/0! | CS20: ='[1]Recettes intérieures'!AN18 -> 0 | CT20: ='[1]Recettes intérieures'!AQ18 -> 0 | CU20: ='[1]Recettes intérieures'!AP18 -> 0 | CV20: =CT20-CU20 -> 0 | CW20: =CM20+CT20 -> 66.019024 | CX20: =CN20+CU20 -> 4.9850743 | CY20: =CW20-CX20 -> 61.033949 | CZ20: ='[1]Recettes intérieures'!AR18 -> 0 | DA20: ='[1]Recettes intérieures'!AU18 -> 0 | DB20: ='[1]Recettes intérieures'!AT18 -> 0 | DC20: =DA20-DB20 -> 0 | DD20: =CW20+DA20 -> 66.019024 | DE20: =CX20+DB20 -> 4.9850743 | DF20: =DD20-DE20 -> 61.033949 | DG20: ='[1]Recettes intérieures'!AV18 -> 0 | DH20: ='[1]Recettes intérieures'!AY18 -> 0 | DI20: ='[1]Recettes intérieures'!AX18 -> 0 | DJ20: =DH20-DI20 -> 0 | DL20: =DG20+CZ20+CS20 -> 0 | DM20: =DH20+DA20+CT20 -> 0 | DN20: =DI20+DB20+CU20 -> 0 | DO20: =DM20-DN20 -> 0 | DP20: =DK20+CK20 -> 0 | DQ20: =DL20+CL20 -> 66.115395 | DR20: =DD20+DH20 -> 66.019024 | DS20: =DE20+DI20 -> 4.9850743 | DT20: =DR20-DS20 -> 61.033949 | DU20: =DR20/B20 -> 0.48006387 | DV20: =DR20/E20 -> 0.48006387 | DW20: =DT20/H20 -> 5.30861
A21: Taxe sur les conventions d'assurance | B21: ='[1]Recettes intérieures'!B19 -> 2.511866 | D21: =B21-C21 -> 2.511866 | E21: ='[1]Recettes intérieures'!C19 -> 2.511866 | G21: =E21-F21 -> 2.511866 | H21: ='[1]Recettes intérieures'!D19 -> 0.339668 | I21: ='[1]Recettes intérieures'!D19 -> 0.339668 | J21: ='[1]Recettes intérieures'!G19 -> 0.38701789 | K21: ='[1]Recettes intérieures'!F19 -> 0 | L21: =J21-K21 -> 0.38701789 | M21: ='[1]Recettes intérieures'!H19 -> 0.36714 | N21: ='[1]Recettes intérieures'!K19 -> 0.55767461 | O21: ='[1]Recettes intérieures'!J19 -> 0 | P21: =N21-O21 -> 0.55767461 | Q21: =J21+N21 -> 0.9446925 | R21: =K21+O21 -> 0 | S21: =Q21-R21 -> 0.9446925 | T21: ='[1]Recettes intérieures'!L19 -> 0.247586 | U21: ='[1]Recettes intérieures'!O19 -> 0.1795378 | V21: ='[1]Recettes intérieures'!N19 -> 0 | W21: =U21-V21 -> 0.1795378 | Y21: =I21+M21+T21 -> 0.954394 | Z21: =Q21+U21 -> 1.1242303 | AA21: =R21+V21 -> 0 | AB21: =S21+W21 -> 1.1242303 | AC21: =AB21/D21 -> 0.44756779 | AD21: =Z21/Y21 -> 1.177952 | AE21: =AB21/H21 -> 3.3097916 | AF21: ='[1]Recettes intérieures'!P19 -> 0.231917 | AG21: ='[1]Recettes intérieures'!S19 -> 0.25990205 | AH21: ='[1]Recettes intérieures'!R19 -> 0 | AI21: =AG21-AH21 -> 0.25990205 | AJ21: =+Z21+AG21 -> 1.3841324 | AK21: =+AA21+AH21 -> 0 | AL21: =AJ21-AK21 -> 1.3841324 | AM21: =AL21/D21 -> 0.5510375 | AN21: ='[1]Recettes intérieures'!T19 -> 0.231917 | AO21: ='[1]Recettes intérieures'!W19 -> 0.27027271 | AP21: ='[1]Recettes intérieures'!V19 -> 0 | AQ21: =AO21-AP21 -> 0.27027271 | AR21: =AJ21+AO21 -> 1.6544051 | AS21: =AK21+AP21 -> 0 | AT21: =AR21-AS21 -> 1.6544051 | AU21: ='[1]Recettes intérieures'!X19 -> 0.209761 | AV21: ='[1]Recettes intérieures'!AA19 -> 0.12584708 | AW21: ='[1]Recettes intérieures'!Z19 -> 0 | AX21: =AV21-AW21 -> 0.12584708 | AZ21: =AF21+AN21+AU21 -> 0.673595 | BA21: =AV21+AO21+AG21 -> 0.65602183 | BB21: =AW21+AP21+AH21 -> 0 | BC21: =BA21-BB21 -> 0.65602183 | BD21: =AY21+X21 -> 0 | BE21: =AZ21+Y21 -> 1.627989 | BF21: =BA21+Z21 -> 1.7802521 | BG21: =BB21+AA21 -> 0 | BH21: =BC21+AB21 -> 1.7802521 | BI21: =BH21/D21 -> 0.70873691 | BJ21: =BF21/E21 -> 0.70873691 | BK21: =BH21/BD21 -> #DIV/0! | BL21: ='[1]Recettes intérieures'!AB19 -> 0 | BM21: ='[1]Recettes intérieures'!AE19 -> 0 | BN21: ='[1]Recettes intérieures'!AD19 -> 0 | BO21: =BM21-BN21 -> 0 | BP21: =BF21+BM21 -> 1.7802521 | BQ21: =BG21+BN21 -> 0 | BR21: =BP21-BQ21 -> 1.7802521 | BS21: =BP21/B21 -> 0.70873691 | BT21: ='[1]Recettes intérieures'!AF19 -> 0 | BU21: ='[1]Recettes intérieures'!AI19 -> 0 | BV21: ='[1]Recettes intérieures'!AH19 -> 0 | BW21: =BU21-BV21 -> 0 | BX21: =BP21+BU21 -> 1.7802521 | BY21: =BQ21+BV21 -> 0 | BZ21: =BX21-BY21 -> 1.7802521 | CA21: =BX21/B21 -> 0.70873691 | CB21: ='[1]Recettes intérieures'!AJ19 -> 0 | CC21: ='[1]Recettes intérieures'!AM19 -> 0 | CD21: ='[1]Recettes intérieures'!AL19 -> 0 | CE21: =CC21-CD21 -> 0 | CG21: =CB21+BT21+BL21 -> 0 | CH21: =BM21+BU21+CC21 -> 0 | CI21: =BN21+BV21+CD21 -> 0 | CJ21: =CH21-CI21 -> 0 | CL21: =CG21+BE21 -> 1.627989 | CM21: =BX21+CC21 -> 1.7802521 | CN21: =BY21+CD21 -> 0 | CO21: =CM21-CN21 -> 1.7802521 | CP21: =CM21/B21 -> 0.70873691 | CQ21: =CM21/E21 -> 0.70873691 | CR21: =CO21/CK21 -> #DIV/0! | CS21: ='[1]Recettes intérieures'!AN19 -> 0 | CT21: ='[1]Recettes intérieures'!AQ19 -> 0 | CU21: ='[1]Recettes intérieures'!AP19 -> 0 | CV21: =CT21-CU21 -> 0 | CW21: =CM21+CT21 -> 1.7802521 | CX21: =CN21+CU21 -> 0 | CY21: =CW21-CX21 -> 1.7802521 | CZ21: ='[1]Recettes intérieures'!AR19 -> 0 | DA21: ='[1]Recettes intérieures'!AU19 -> 0 | DB21: ='[1]Recettes intérieures'!AT19 -> 0 | DC21: =DA21-DB21 -> 0 | DD21: =CW21+DA21 -> 1.7802521 | DE21: =CX21+DB21 -> 0 | DF21: =DD21-DE21 -> 1.7802521 | DG21: ='[1]Recettes intérieures'!AV19 -> 0 | DH21: ='[1]Recettes intérieures'!AY19 -> 0 | DI21: ='[1]Recettes intérieures'!AX19 -> 0 | DJ21: =DH21-DI21 -> 0 | DL21: =DG21+CZ21+CS21 -> 0 | DM21: =DH21+DA21+CT21 -> 0 | DN21: =DI21+DB21+CU21 -> 0 | DO21: =DM21-DN21 -> 0 | DP21: =DK21+CK21 -> 0 | DQ21: =DL21+CL21 -> 1.627989 | DR21: =DD21+DH21 -> 1.7802521 | DS21: =DE21+DI21 -> 0 | DT21: =DR21-DS21 -> 1.7802521 | DU21: =DR21/B21 -> 0.70873691 | DV21: =DR21/E21 -> 0.70873691 | DW21: =DT21/H21 -> 5.2411535
